BEGIN:VCALENDAR
VERSION:2.0
PRODID:-//Brentwood Reform Synagogue - ECPv6.15.20//NONSGML v1.0//EN
CALSCALE:GREGORIAN
METHOD:PUBLISH
X-WR-CALNAME:Brentwood Reform Synagogue
X-ORIGINAL-URL:https://tikvahchadasha.com
X-WR-CALDESC:Events for Brentwood Reform Synagogue
REFRESH-INTERVAL;VALUE=DURATION:PT1H
X-Robots-Tag:noindex
X-PUBLISHED-TTL:PT1H
BEGIN:VTIMEZONE
TZID:UTC
BEGIN:STANDARD
TZOFFSETFROM:+0000
TZOFFSETTO:+0000
TZNAME:UTC
DTSTART:20240101T000000
END:STANDARD
END:VTIMEZONE
BEGIN:VEVENT
DTSTART;TZID=UTC:20260411T110000
DTEND;TZID=UTC:20260411T130000
DTSTAMP:20260425T021938
CREATED:20260109T113211Z
LAST-MODIFIED:20260109T113215Z
UID:2185-1775905200-1775912400@tikvahchadasha.com
SUMMARY:Shabbat Service
DESCRIPTION:Led by Rabbi David \n\n\n\nPlease call for venue details
URL:https://tikvahchadasha.com/event/shabbat-service/
END:VEVENT
BEGIN:VEVENT
DTSTART;TZID=UTC:20260402T180000
DTEND;TZID=UTC:20260402T200000
DTSTAMP:20260425T021938
CREATED:20260109T113052Z
LAST-MODIFIED:20260109T113055Z
UID:2183-1775152800-1775160000@tikvahchadasha.com
SUMMARY:Passover
DESCRIPTION:Led by Natasha. Precise timings to be determined.  \n\n\n\nPlease call for venue details
URL:https://tikvahchadasha.com/event/passover/
END:VEVENT
BEGIN:VEVENT
DTSTART;TZID=UTC:20260327T193000
DTEND;TZID=UTC:20260327T213000
DTSTAMP:20260425T021938
CREATED:20260109T112903Z
LAST-MODIFIED:20260109T112906Z
UID:2181-1774639800-1774647000@tikvahchadasha.com
SUMMARY:Friday Evening Social Get Together
DESCRIPTION:Please call for venue details
URL:https://tikvahchadasha.com/event/friday-evening-social-get-together-2/
END:VEVENT
BEGIN:VEVENT
DTSTART;TZID=UTC:20260314T110000
DTEND;TZID=UTC:20260314T130000
DTSTAMP:20260425T021938
CREATED:20260109T112739Z
LAST-MODIFIED:20260109T115922Z
UID:2179-1773486000-1773493200@tikvahchadasha.com
SUMMARY:Shabbat Service
DESCRIPTION:Led by Gavriella Goldman \n\n\n\nPlease call for venue details
URL:https://tikvahchadasha.com/event/shabbat-saturday-3/
END:VEVENT
BEGIN:VEVENT
DTSTART;TZID=UTC:20260301T130000
DTEND;TZID=UTC:20260301T150000
DTSTAMP:20260425T021938
CREATED:20260109T112630Z
LAST-MODIFIED:20260109T115928Z
UID:2177-1772370000-1772377200@tikvahchadasha.com
SUMMARY:Purim
DESCRIPTION:Timings and venue details to be determined.  \n\n\n\nPlease call for venue details
URL:https://tikvahchadasha.com/event/purim-sunday/
END:VEVENT
BEGIN:VEVENT
DTSTART;TZID=UTC:20260214T110000
DTEND;TZID=UTC:20260214T130000
DTSTAMP:20260425T021938
CREATED:20260109T112454Z
LAST-MODIFIED:20260109T115936Z
UID:2175-1771066800-1771074000@tikvahchadasha.com
SUMMARY:Shabbat Service
DESCRIPTION:Led by Rabbi David \n\n\n\nPlease call for venue details
URL:https://tikvahchadasha.com/event/shabbat-saturday-2/
END:VEVENT
BEGIN:VEVENT
DTSTART;TZID=UTC:20260130T193000
DTEND;TZID=UTC:20260130T213000
DTSTAMP:20260425T021938
CREATED:20260109T112327Z
LAST-MODIFIED:20260109T112331Z
UID:2173-1769801400-1769808600@tikvahchadasha.com
SUMMARY:Friday Evening Social Get Together
DESCRIPTION:Please call for venue details
URL:https://tikvahchadasha.com/event/friday-evening-social-get-together/
END:VEVENT
BEGIN:VEVENT
DTSTART;TZID=UTC:20260110T110000
DTEND;TZID=UTC:20260110T130000
DTSTAMP:20260425T021938
CREATED:20260108T162414Z
LAST-MODIFIED:20260109T115944Z
UID:2163-1768042800-1768050000@tikvahchadasha.com
SUMMARY:Shabbat Service
DESCRIPTION:Led by Gavriella Goldman \n\n\n\nPlease call for venue details
URL:https://tikvahchadasha.com/event/shabbat-saturday/
END:VEVENT
BEGIN:VEVENT
DTSTART;TZID=UTC:20251221T160000
DTEND;TZID=UTC:20251221T180000
DTSTAMP:20260425T021938
CREATED:20250415T093631Z
LAST-MODIFIED:20250415T093633Z
UID:1398-1766332800-1766340000@tikvahchadasha.com
SUMMARY:Channukah
DESCRIPTION:Please join us for our Channukah party \n\n\n\nTonight is the last candle. There will be plenty of doughnuts and lutkas. Please feel free to bring your own Chanukia along to light. All of our Chanukkia fully lit\, that will be quite a beautiful sight.  \n\n\n\nPlease call for venue details
URL:https://tikvahchadasha.com/event/channukah/
END:VEVENT
BEGIN:VEVENT
DTSTART;TZID=UTC:20251213T110000
DTEND;TZID=UTC:20251213T130000
DTSTAMP:20260425T021938
CREATED:20250415T092643Z
LAST-MODIFIED:20250415T092645Z
UID:1396-1765623600-1765630800@tikvahchadasha.com
SUMMARY:Shabbat Morning
DESCRIPTION:Service led by Rabbi David \n\n\n\nPlease call for venue details
URL:https://tikvahchadasha.com/event/shabbat-morning-9/
END:VEVENT
BEGIN:VEVENT
DTSTART;TZID=UTC:20251115T110000
DTEND;TZID=UTC:20251115T130000
DTSTAMP:20260425T021938
CREATED:20250415T092534Z
LAST-MODIFIED:20251020T091728Z
UID:1394-1763204400-1763211600@tikvahchadasha.com
SUMMARY:Shabbat Morning
DESCRIPTION:Service led by Rabbi Gavriella \n\n\n\nPlease call for venue details
URL:https://tikvahchadasha.com/event/shabbat-morning-8/
END:VEVENT
BEGIN:VEVENT
DTSTART;TZID=UTC:20251012T160000
DTEND;TZID=UTC:20251012T180000
DTSTAMP:20260425T021938
CREATED:20250415T092353Z
LAST-MODIFIED:20250415T092354Z
UID:1392-1760284800-1760292000@tikvahchadasha.com
SUMMARY:Shemini Atzeret / Simchat Torah
DESCRIPTION:Please do come along to dance and sing with the Torah.  \n\n\n\nThe service will be led by Natasha \n\n\n\nPlease call for venue details
URL:https://tikvahchadasha.com/event/shemini-atzeret-simchat-torah/
END:VEVENT
BEGIN:VEVENT
DTSTART;TZID=UTC:20251011T110000
DTEND;TZID=UTC:20251011T130000
DTSTAMP:20260425T021938
CREATED:20250415T092110Z
LAST-MODIFIED:20250415T092112Z
UID:1390-1760180400-1760187600@tikvahchadasha.com
SUMMARY:Shabbat Morning
DESCRIPTION:Service led by Rabbi David \n\n\n\nPlease call for venue details
URL:https://tikvahchadasha.com/event/shabbat-morning-7/
END:VEVENT
BEGIN:VEVENT
DTSTART;TZID=UTC:20251011T110000
DTEND;TZID=UTC:20251011T130000
DTSTAMP:20260425T021938
CREATED:20250415T091919Z
LAST-MODIFIED:20250912T145248Z
UID:1388-1760180400-1760187600@tikvahchadasha.com
SUMMARY:Refreshments and service in the Sukka
DESCRIPTION:Service led in the Sukka\, weather permitting. The service will commence at 11am. Please contact us for the address. Space will be limited so your attendance must be confirmed prior to the service.
URL:https://tikvahchadasha.com/event/sukkot/
END:VEVENT
BEGIN:VEVENT
DTSTART;TZID=UTC:20251002T182000
DTEND;TZID=UTC:20251002T192400
DTSTAMP:20260425T021938
CREATED:20250415T090624Z
LAST-MODIFIED:20250415T090625Z
UID:1386-1759429200-1759433040@tikvahchadasha.com
SUMMARY:Yom Kippur Ne’ilah
DESCRIPTION:Fast ends 7:24PM \n\n\n\nService Leader and venue to be confirmed \n\n\n\nPlease call for venue details
URL:https://tikvahchadasha.com/event/yom-kippur-neilah/
END:VEVENT
BEGIN:VEVENT
DTSTART;TZID=UTC:20251002T174500
DTEND;TZID=UTC:20251002T181500
DTSTAMP:20260425T021938
CREATED:20250415T090442Z
LAST-MODIFIED:20250415T090443Z
UID:1384-1759427100-1759428900@tikvahchadasha.com
SUMMARY:Yom Kippur Yiskor
DESCRIPTION:Service Leader and venue to be confirmed \n\n\n\nPlease call for venue details
URL:https://tikvahchadasha.com/event/yom-kippur-yiskor/
END:VEVENT
BEGIN:VEVENT
DTSTART;TZID=UTC:20251002T164000
DTEND;TZID=UTC:20251002T174000
DTSTAMP:20260425T021938
CREATED:20250415T090049Z
LAST-MODIFIED:20250415T090050Z
UID:1382-1759423200-1759426800@tikvahchadasha.com
SUMMARY:Yom Kippur Afternoon Session (Minchah)
DESCRIPTION:Service Leader and venue to be confirmed \n\n\n\nPlease call for venue details
URL:https://tikvahchadasha.com/event/yom-kippur-afternoon-session-minchah/
END:VEVENT
BEGIN:VEVENT
DTSTART;TZID=UTC:20251002T140000
DTEND;TZID=UTC:20251002T163000
DTSTAMP:20260425T021938
CREATED:20250415T085327Z
LAST-MODIFIED:20250415T085329Z
UID:1380-1759413600-1759422600@tikvahchadasha.com
SUMMARY:Yom Kippur Study Session
DESCRIPTION:Break followed by Study Session \n\n\n\nService Leader and venue to be confirmed \n\n\n\nPlease call for venue details
URL:https://tikvahchadasha.com/event/yom-kippur-study-session/
END:VEVENT
BEGIN:VEVENT
DTSTART;TZID=UTC:20251002T100000
DTEND;TZID=UTC:20251002T123000
DTSTAMP:20260425T021938
CREATED:20250415T085152Z
LAST-MODIFIED:20250912T145603Z
UID:1378-1759399200-1759408200@tikvahchadasha.com
SUMMARY:Yom Kippur Morning Service (Shachrit)
DESCRIPTION:Service leader and venue to be confirmed \n\n\n\nPlease call for venue details
URL:https://tikvahchadasha.com/event/yom-kippur-morning-service-shachrit/
END:VEVENT
BEGIN:VEVENT
DTSTART;TZID=UTC:20251001T200000
DTEND;TZID=UTC:20251001T220000
DTSTAMP:20260425T021938
CREATED:20250415T084920Z
LAST-MODIFIED:20250415T084921Z
UID:1376-1759348800-1759356000@tikvahchadasha.com
SUMMARY:Kol Nidre Service
DESCRIPTION:Service led by Natasha \n\n\n\nPlease call for venue details \n\n\n\nFast begins 6:24pm on 1st October
URL:https://tikvahchadasha.com/event/kol-nidre-service/
END:VEVENT
BEGIN:VEVENT
DTSTART;TZID=UTC:20250923T100000
DTEND;TZID=UTC:20250923T123000
DTSTAMP:20260425T021938
CREATED:20250415T084703Z
LAST-MODIFIED:20250916T082605Z
UID:1374-1758621600-1758630600@tikvahchadasha.com
SUMMARY:Rosh Hashannah
DESCRIPTION:Service leader to be confirmed \n\n\n\nPlease call for venue details
URL:https://tikvahchadasha.com/event/rosh-hashannah/
END:VEVENT
BEGIN:VEVENT
DTSTART;TZID=UTC:20250922T200000
DTEND;TZID=UTC:20250922T220000
DTSTAMP:20260425T021938
CREATED:20250415T084510Z
LAST-MODIFIED:20250415T084511Z
UID:1372-1758571200-1758578400@tikvahchadasha.com
SUMMARY:Erev Rosh Hashannah
DESCRIPTION:Service led by Natasha \n\n\n\nPlease call for venue details
URL:https://tikvahchadasha.com/event/erev-rosh-hashannah/
END:VEVENT
BEGIN:VEVENT
DTSTART;TZID=UTC:20250913T110000
DTEND;TZID=UTC:20250913T130000
DTSTAMP:20260425T021938
CREATED:20250415T084302Z
LAST-MODIFIED:20250415T084304Z
UID:1370-1757761200-1757768400@tikvahchadasha.com
SUMMARY:Shabbat Morning
DESCRIPTION:11am Service led by Rabbi David \n\n\n\nPlease call for venue details
URL:https://tikvahchadasha.com/event/shabbat-morning-6/
END:VEVENT
BEGIN:VEVENT
DTSTART;TZID=UTC:20250809T110000
DTEND;TZID=UTC:20250809T130000
DTSTAMP:20260425T021938
CREATED:20250415T084059Z
LAST-MODIFIED:20250415T084100Z
UID:1368-1754737200-1754744400@tikvahchadasha.com
SUMMARY:Shabbat Morning
DESCRIPTION:11am Service led by Rabbi David \n\n\n\nPlease call for venue details
URL:https://tikvahchadasha.com/event/shabbat-morning-5/
END:VEVENT
BEGIN:VEVENT
DTSTART;TZID=UTC:20250712T110000
DTEND;TZID=UTC:20250712T130000
DTSTAMP:20260425T021938
CREATED:20250415T083910Z
LAST-MODIFIED:20250415T083911Z
UID:1366-1752318000-1752325200@tikvahchadasha.com
SUMMARY:Shabbat Morning
DESCRIPTION:11am Service led by Rabbi David \n\n\n\nPlease call for venue details
URL:https://tikvahchadasha.com/event/shabbat-morning-4/
END:VEVENT
BEGIN:VEVENT
DTSTART;TZID=UTC:20250706T163000
DTEND;TZID=UTC:20250706T183000
DTSTAMP:20260425T021938
CREATED:20250415T081735Z
LAST-MODIFIED:20250415T081736Z
UID:1364-1751819400-1751826600@tikvahchadasha.com
SUMMARY:AGM
DESCRIPTION:4.30pm Via Zoom
URL:https://tikvahchadasha.com/event/agm/
END:VEVENT
BEGIN:VEVENT
DTSTART;TZID=UTC:20250614T110000
DTEND;TZID=UTC:20250614T130000
DTSTAMP:20260425T021938
CREATED:20250415T081524Z
LAST-MODIFIED:20250415T081526Z
UID:1362-1749898800-1749906000@tikvahchadasha.com
SUMMARY:Shabbat Morning
DESCRIPTION:11am Service led by Rabbi David \n\n\n\nPlease call for venue details
URL:https://tikvahchadasha.com/event/shabbat-morning-3/
END:VEVENT
BEGIN:VEVENT
DTSTART;TZID=UTC:20250601T110000
DTEND;TZID=UTC:20250601T130000
DTSTAMP:20260425T021938
CREATED:20250414T170759Z
LAST-MODIFIED:20250424T152305Z
UID:1326-1748775600-1748782800@tikvahchadasha.com
SUMMARY:Shavuot
DESCRIPTION:Celebration led by Natasha 11am \n\n\n\nCome along and celebrate Shavout\, plenty of cheesecake to be eaten. \n\n\n\nPlease call for Venue details
URL:https://tikvahchadasha.com/event/chavuot/
END:VEVENT
BEGIN:VEVENT
DTSTART;TZID=UTC:20250510T110000
DTEND;TZID=UTC:20250510T130000
DTSTAMP:20260425T021938
CREATED:20250415T081304Z
LAST-MODIFIED:20250415T081305Z
UID:1360-1746874800-1746882000@tikvahchadasha.com
SUMMARY:Shabbat Morning
DESCRIPTION:11am Service led by Rabbi David \n\n\n\nPlease call for venue details
URL:https://tikvahchadasha.com/event/shabbat-morning-2/
END:VEVENT
BEGIN:VEVENT
DTSTART;TZID=UTC:20250412T110000
DTEND;TZID=UTC:20250412T130000
DTSTAMP:20260425T021938
CREATED:20250408T164023Z
LAST-MODIFIED:20250409T102814Z
UID:1091-1744455600-1744462800@tikvahchadasha.com
SUMMARY:Shabbat Morning
DESCRIPTION:11am Service led by Rabbi David \nPlease call for venue details
URL:https://tikvahchadasha.com/event/shabbat-morning/
CATEGORIES:Shabbat Morning
END:VEVENT
END:VCALENDAR